BEGIN:VCALENDAR
VERSION:2.0
PRODID:-//Drupal//recurring_events_ical//2.0//EN
BEGIN:VEVENT
UID:87737325-7edf-4eb9-a50e-c2982ba01ddb@stbarnabasottawa.com
DTSTAMP:20241101T163636Z
DTSTART:20241119T150000Z
DTEND:20241119T154500Z
SUMMARY:Mass, Book of Common Prayer
CONTACT:parish.office@stbarnabasottawa.com
DESCRIPTION:St. Elizabeth, Princess of Hungary, 1231Colour: WhiteIntroit Bo
 oklet: # 111Propers: FAS p. 353Celebrant: Fr. RathsIntention: For our all 
 who serve the poor in our Community, especially for the Outreach ministrie
 s of our parish and Diocese.
GEO:45.4122331;-75.697127
LOCATION:70 James St, Ottawa, ON K1R 5M3
URL:https://stbarnabasottawa.com/services/mass-book-common-prayer-81
END:VEVENT
END:VCALENDAR