BEGIN:VCALENDAR
VERSION:2.0
PRODID:-//Drupal//recurring_events_ical//2.0//EN
BEGIN:VEVENT
UID:cd25385b-96df-4208-882e-085f3ecf506b@stbarnabasottawa.com
DTSTAMP:20240604T184003Z
DTSTART:20240804T123000Z
DTEND:20240804T130000Z
SUMMARY:Low Mass, Book of Common Prayer
CONTACT:parish.office@stbarnabasottawa.com
DESCRIPTION:Propers: p.233
GEO:45.4122331;-75.697127
LOCATION:70 James St, Ottawa, ON K1R 5M3
URL:https://stbarnabasottawa.com/services/low-mass-book-common-prayer-15
END:VEVENT
END:VCALENDAR