BEGIN:VCALENDAR
VERSION:2.0
PRODID:-//Drupal//recurring_events_ical//2.0//EN
BEGIN:VEVENT
UID:87c33c2d-6167-4e6c-b96d-b1bf1a418e69@stbarnabasottawa.com
DTSTAMP:20240604T183438Z
DTSTART:20240721T123000Z
DTEND:20240721T130000Z
SUMMARY:Low Mass, Book of Common Prayer
CONTACT:parish.office@stbarnabasottawa.com
DESCRIPTION:Propers: p. 229
GEO:45.4122331;-75.697127
LOCATION:70 James St, Ottawa, ON K1R 5M3
URL:https://stbarnabasottawa.com/services/low-mass-book-common-prayer-13
END:VEVENT
END:VCALENDAR