BEGIN:VCALENDAR
VERSION:2.0
PRODID:-//Drupal//recurring_events_ical//2.0//EN
BEGIN:VEVENT
UID:1296401a-1ebb-48f3-8c35-ef1b1227e722@stbarnabasottawa.com
DTSTAMP:20240604T185306Z
DTSTART:20240906T113000Z
DTEND:20240906T120000Z
SUMMARY:Mass, Book of Common Prayer
CONTACT:parish.office@stbarnabasottawa.com
DESCRIPTION:St. Aidan, Bishop of Lindisfarne, Missionary, 651 (transferred 
 from August 31)Colour: Green Introit Booklet: # 117Propers: FAS p. 265Cel
 ebrant: Fr. MurrayIntention: For the Bishops of the Anglican Communion.
GEO:45.4122331;-75.697127
LOCATION:70 James St, Ottawa, ON K1R 5M3
URL:https://stbarnabasottawa.com/services/mass-book-common-prayer-54
END:VEVENT
END:VCALENDAR