BEGIN:VCALENDAR
VERSION:2.0
PRODID:-//Drupal//recurring_events_ical//2.0//EN
BEGIN:VEVENT
UID:85c68df8-c7de-48ed-b2c1-2548241f3dd4@stbarnabasottawa.com
DTSTAMP:20240604T182709Z
DTSTART:20240712T113000Z
DTEND:20240712T120000Z
SUMMARY:Mass, Book of Common Prayer
CONTACT:parish.office@stbarnabasottawa.com
DESCRIPTION:St. Henry, Missionary in Finland.Colour: GreenIntroit Booklet: 
 # 110Propers: FAS p. 219Celebrant: Fr. YoungIntention: For grace to share 
 our hope in Christ with our family and friends.
GEO:45.4122331;-75.697127
LOCATION:70 James St, Ottawa, ON K1R 5M3
URL:https://stbarnabasottawa.com/services/mass-book-common-prayer-46
END:VEVENT
END:VCALENDAR