BEGIN:VCALENDAR
VERSION:2.0
PRODID:-//Drupal//recurring_events_ical//2.0//EN
BEGIN:VEVENT
UID:48b686db-4574-4d9e-8277-017eb1ada3a8@stbarnabasottawa.com
DTSTAMP:20240525T160418Z
DTSTART:20231105T153000Z
DTEND:20231105T170000Z
SUMMARY:Solemn High Mass
CONTACT:parish.office@stbarnabasottawa.com
GEO:45.4122331;-75.697127
LOCATION:70 James St, Ottawa, ON K1R 5M3
URL:https://stbarnabasottawa.com/services/solemn-high-mass-56
END:VEVENT
END:VCALENDAR