BEGIN:VCALENDAR
VERSION:2.0
PRODID:-//Drupal//recurring_events_ical//2.0//EN
BEGIN:VEVENT
UID:86d392af-588b-4714-a1a5-1dfce5970a2c@stbarnabasottawa.com
DTSTAMP:20251219T191730Z
DTSTART:20260717T113000Z
DTEND:20260717T121500Z
SUMMARY:Mass, Book of Common Prayer
CONTACT:parish.office@stbarnabasottawa.com
GEO:45.4122331;-75.697127
LOCATION:70 James St, Ottawa, ON K1R 5M3
URL:https://stbarnabasottawa.com/events/1150
END:VEVENT
END:VCALENDAR